BEGIN:VCALENDAR
VERSION:2.0
PRODID:-//Bee Friends Frankfurt - ECPv6.15.20//NONSGML v1.0//EN
CALSCALE:GREGORIAN
METHOD:PUBLISH
X-WR-CALNAME:Bee Friends Frankfurt
X-ORIGINAL-URL:https://bee-friends-frankfurt.de
X-WR-CALDESC:Veranstaltungen für Bee Friends Frankfurt
REFRESH-INTERVAL;VALUE=DURATION:PT1H
X-Robots-Tag:noindex
X-PUBLISHED-TTL:PT1H
BEGIN:VTIMEZONE
TZID:UTC
BEGIN:STANDARD
TZOFFSETFROM:+0000
TZOFFSETTO:+0000
TZNAME:UTC
DTSTART:20240101T000000
END:STANDARD
END:VTIMEZONE
BEGIN:VEVENT
DTSTART;TZID=UTC:20250830T120000
DTEND;TZID=UTC:20250830T170000
DTSTAMP:20260422T150153
CREATED:20250622T113236Z
LAST-MODIFIED:20250622T113236Z
UID:6435-1756555200-1756573200@bee-friends-frankfurt.de
SUMMARY:Bienenfestival Frankfurt 2024
DESCRIPTION:8. Frankfurter Bienenfestival 2024\nNach dem erfolgreichen Restart des Frankfurter Bienenfestivals\, freuen wir uns euch 2025 wieder im botanischen Garten zu begrüßen. \nBienenfestival Frankfurt 2025 im Alter Botanischer Garten ab 12:00
URL:https://bee-friends-frankfurt.de/event/bienenfestival-frankfurt-2024-2
LOCATION:Alter Botanischer Garten
CATEGORIES:Externe Veranstaltung
ATTACH;FMTTYPE=image/png:https://bee-friends-frankfurt.de/wp-content/uploads/2025/06/bienenfestival2025.png
END:VEVENT
END:VCALENDAR