BEGIN:VCALENDAR
VERSION:2.0
PRODID:-//Bee Friends Frankfurt - ECPv6.15.20//NONSGML v1.0//EN
CALSCALE:GREGORIAN
METHOD:PUBLISH
X-ORIGINAL-URL:https://bee-friends-frankfurt.de
X-WR-CALDESC:Veranstaltungen für Bee Friends Frankfurt
REFRESH-INTERVAL;VALUE=DURATION:PT1H
X-Robots-Tag:noindex
X-PUBLISHED-TTL:PT1H
BEGIN:VTIMEZONE
TZID:UTC
BEGIN:STANDARD
TZOFFSETFROM:+0000
TZOFFSETTO:+0000
TZNAME:UTC
DTSTART:20240101T000000
END:STANDARD
END:VTIMEZONE
BEGIN:VEVENT
DTSTART;TZID=UTC:20250831T093000
DTEND;TZID=UTC:20250831T160000
DTSTAMP:20260422T150506
CREATED:20241227T195030Z
LAST-MODIFIED:20241227T195030Z
UID:6323-1756632600-1756656000@bee-friends-frankfurt.de
SUMMARY:Festveranstaltung 100 Jahre IV Offenbach
DESCRIPTION:Festveranstaltung 100 Jahre IV Offenbach mit Vorträgen von \nPia Aumeier und Marina Meixner (LLH Kirchhain) 9:30 bis 16 Uhr
URL:https://bee-friends-frankfurt.de/event/festveranstaltung-100-jahre-iv-offenbach
LOCATION:Lehrbienenstand in Offenbach
CATEGORIES:Externe Veranstaltung
ATTACH;FMTTYPE=image/jpeg:https://bee-friends-frankfurt.de/wp-content/uploads/2022/11/15042018-Koenigin2-e1705757681783.jpg
END:VEVENT
BEGIN:VEVENT
DTSTART;TZID=UTC:20250831T110000
DTEND;TZID=UTC:20250831T140000
DTSTAMP:20260422T150506
CREATED:20241026T212904Z
LAST-MODIFIED:20241026T212904Z
UID:6233-1756638000-1756648800@bee-friends-frankfurt.de
SUMMARY:IMKER-KURS 2025
DESCRIPTION:Die Kursplanung für 2025 ist abgeschlossen. Einzelheiten hierzu werden auf der Seite “Imker werden” zu finden sein. Anmeldungen nehmen wir ab sofort entgegen. Die Teilnehmerzahl ist sehr begrenzt. Ein Kursplatz gilt erst dann als gesichert\, wenn die Kursgebühren auf unserem Bankkonto eingegangen sind. \nOrt: Lehrbienenstand der Bee Friends in Frankfurt-Kalbach\, \nZum Gickelhahn; Beginn 11 Uhr\, Dauer 2-3 Stunden
URL:https://bee-friends-frankfurt.de/event/imker-kurs-2025-26
LOCATION:Lehrbienenstand\, Zum Gickelhahn\, 60437 Kalbach-Riedberg\, Hessen\, 60437\, Germany
CATEGORIES:BeeFriends Veranstaltung
ATTACH;FMTTYPE=image/png:https://bee-friends-frankfurt.de/wp-content/uploads/2024/10/Neu_Imker_kurs_2025.png
END:VEVENT
END:VCALENDAR