BEGIN:VCALENDAR
VERSION:2.0
PRODID:-//Bee Friends Frankfurt - ECPv6.15.20//NONSGML v1.0//EN
CALSCALE:GREGORIAN
METHOD:PUBLISH
X-ORIGINAL-URL:https://bee-friends-frankfurt.de
X-WR-CALDESC:Veranstaltungen für Bee Friends Frankfurt
REFRESH-INTERVAL;VALUE=DURATION:PT1H
X-Robots-Tag:noindex
X-PUBLISHED-TTL:PT1H
BEGIN:VTIMEZONE
TZID:UTC
BEGIN:STANDARD
TZOFFSETFROM:+0000
TZOFFSETTO:+0000
TZNAME:UTC
DTSTART:20250101T000000
END:STANDARD
END:VTIMEZONE
BEGIN:VEVENT
DTSTART;TZID=UTC:20260305T200000
DTEND;TZID=UTC:20260305T220000
DTSTAMP:20260420T101146
CREATED:20260214T191716Z
LAST-MODIFIED:20260214T191751Z
UID:6517-1772740800-1772748000@bee-friends-frankfurt.de
SUMMARY:Vorstandssitzung Bee Friends
DESCRIPTION:online um 20 Uhr \n  \n 
URL:https://bee-friends-frankfurt.de/event/vorstandssitzung-bee-friends
LOCATION:Online
CATEGORIES:BeeFriends Veranstaltung
ATTACH;FMTTYPE=image/png:https://bee-friends-frankfurt.de/wp-content/uploads/2024/01/cropped-Favicon-52687_bee-friends-1.png
END:VEVENT
END:VCALENDAR