BEGIN:VCALENDAR
VERSION:2.0
PRODID:-//Bee Friends Frankfurt - ECPv6.15.20//NONSGML v1.0//EN
CALSCALE:GREGORIAN
METHOD:PUBLISH
X-ORIGINAL-URL:https://bee-friends-frankfurt.de
X-WR-CALDESC:Veranstaltungen für Bee Friends Frankfurt
REFRESH-INTERVAL;VALUE=DURATION:PT1H
X-Robots-Tag:noindex
X-PUBLISHED-TTL:PT1H
BEGIN:VTIMEZONE
TZID:UTC
BEGIN:STANDARD
TZOFFSETFROM:+0000
TZOFFSETTO:+0000
TZNAME:UTC
DTSTART:20240101T000000
END:STANDARD
END:VTIMEZONE
BEGIN:VEVENT
DTSTART;TZID=UTC:20250406T110000
DTEND;TZID=UTC:20250406T140000
DTSTAMP:20260424T082303
CREATED:20241026T211523Z
LAST-MODIFIED:20241026T211523Z
UID:6193-1743937200-1743948000@bee-friends-frankfurt.de
SUMMARY:IMKER-KURS 2025
DESCRIPTION:Die Kursplanung für 2025 ist abgeschlossen. Einzelheiten hierzu werden auf der Seite “Imker werden” zu finden sein. Anmeldungen nehmen wir ab sofort entgegen. Die Teilnehmerzahl ist sehr begrenzt. Ein Kursplatz gilt erst dann als gesichert\, wenn die Kursgebühren auf unserem Bankkonto eingegangen sind. \nOrt: Lehrbienenstand der Bee Friends in Frankfurt-Kalbach\, \nZum Gickelhahn; Beginn 11 Uhr\, Dauer 2-3 Stunden
URL:https://bee-friends-frankfurt.de/event/imker-kurs-2025-6
LOCATION:Lehrbienenstand\, Zum Gickelhahn\, 60437 Kalbach-Riedberg\, Hessen\, 60437\, Germany
CATEGORIES:BeeFriends Veranstaltung
ATTACH;FMTTYPE=image/png:https://bee-friends-frankfurt.de/wp-content/uploads/2024/10/Neu_Imker_kurs_2025.png
END:VEVENT
BEGIN:VEVENT
DTSTART;TZID=UTC:20250421T110000
DTEND;TZID=UTC:20250421T140000
DTSTAMP:20260424T082303
CREATED:20241026T211619Z
LAST-MODIFIED:20241026T211619Z
UID:6195-1745233200-1745244000@bee-friends-frankfurt.de
SUMMARY:IMKER-KURS 2025
DESCRIPTION:Die Kursplanung für 2025 ist abgeschlossen. Einzelheiten hierzu werden auf der Seite “Imker werden” zu finden sein. Anmeldungen nehmen wir ab sofort entgegen. Die Teilnehmerzahl ist sehr begrenzt. Ein Kursplatz gilt erst dann als gesichert\, wenn die Kursgebühren auf unserem Bankkonto eingegangen sind. \nOrt: Lehrbienenstand der Bee Friends in Frankfurt-Kalbach\, \nZum Gickelhahn; Beginn 11 Uhr\, Dauer 2-3 Stunden
URL:https://bee-friends-frankfurt.de/event/imker-kurs-2025-7
LOCATION:Lehrbienenstand\, Zum Gickelhahn\, 60437 Kalbach-Riedberg\, Hessen\, 60437\, Germany
CATEGORIES:BeeFriends Veranstaltung
ATTACH;FMTTYPE=image/png:https://bee-friends-frankfurt.de/wp-content/uploads/2024/10/Neu_Imker_kurs_2025.png
END:VEVENT
BEGIN:VEVENT
DTSTART;TZID=UTC:20250427T100000
DTEND;TZID=UTC:20250428T170000
DTSTAMP:20260424T082303
CREATED:20250319T195836Z
LAST-MODIFIED:20250319T195836Z
UID:6379-1745748000-1745859600@bee-friends-frankfurt.de
SUMMARY:Besuchertag im Bieneninstitut Kirchhain 2025
DESCRIPTION:Besuchertag im Bieneninstitut Kirchhain!
URL:https://bee-friends-frankfurt.de/event/besuchertag-im-bieneninstitut-kirchhain-2025
LOCATION:Friedrichsdorf
CATEGORIES:Externe Veranstaltung
ATTACH;FMTTYPE=image/png:https://bee-friends-frankfurt.de/wp-content/uploads/2025/03/LHI_logo.png
END:VEVENT
BEGIN:VEVENT
DTSTART;TZID=UTC:20250427T110000
DTEND;TZID=UTC:20250427T140000
DTSTAMP:20260424T082303
CREATED:20241026T211707Z
LAST-MODIFIED:20241026T211707Z
UID:6197-1745751600-1745762400@bee-friends-frankfurt.de
SUMMARY:IMKER-KURS 2025
DESCRIPTION:Die Kursplanung für 2025 ist abgeschlossen. Einzelheiten hierzu werden auf der Seite “Imker werden” zu finden sein. Anmeldungen nehmen wir ab sofort entgegen. Die Teilnehmerzahl ist sehr begrenzt. Ein Kursplatz gilt erst dann als gesichert\, wenn die Kursgebühren auf unserem Bankkonto eingegangen sind. \nOrt: Lehrbienenstand der Bee Friends in Frankfurt-Kalbach\, \nZum Gickelhahn; Beginn 11 Uhr\, Dauer 2-3 Stunden
URL:https://bee-friends-frankfurt.de/event/imker-kurs-2025-8
LOCATION:Lehrbienenstand\, Zum Gickelhahn\, 60437 Kalbach-Riedberg\, Hessen\, 60437\, Germany
CATEGORIES:BeeFriends Veranstaltung
ATTACH;FMTTYPE=image/png:https://bee-friends-frankfurt.de/wp-content/uploads/2024/10/Neu_Imker_kurs_2025.png
END:VEVENT
BEGIN:VEVENT
DTSTART;TZID=UTC:20250427T150000
DTEND;TZID=UTC:20250427T190000
DTSTAMP:20260424T082303
CREATED:20250103T192207Z
LAST-MODIFIED:20250314T201043Z
UID:6331-1745766000-1745780400@bee-friends-frankfurt.de
SUMMARY:Mitgliederversammlung 2025
DESCRIPTION:BeeFriends e.V. Mitgliederversammlung 2025 \nFindet statt im „Dessauer“; Jugendhaus auf dem Riedberg\, Friedrich-Dessauer-Straße 4-6\, 60438 Frankfurt; Beginn ist 15 Uhr
URL:https://bee-friends-frankfurt.de/event/mitgliederversammlung-2025
LOCATION:Dessauer
CATEGORIES:BeeFriends Veranstaltung
ATTACH;FMTTYPE=image/png:https://bee-friends-frankfurt.de/wp-content/uploads/2023/12/logo-1-e1703606920292.png
END:VEVENT
END:VCALENDAR