BEGIN:VCALENDAR
VERSION:2.0
PRODID:-//Bee Friends Frankfurt - ECPv6.15.20//NONSGML v1.0//EN
CALSCALE:GREGORIAN
METHOD:PUBLISH
X-WR-CALNAME:Bee Friends Frankfurt
X-ORIGINAL-URL:https://bee-friends-frankfurt.de
X-WR-CALDESC:Veranstaltungen für Bee Friends Frankfurt
REFRESH-INTERVAL;VALUE=DURATION:PT1H
X-Robots-Tag:noindex
X-PUBLISHED-TTL:PT1H
BEGIN:VTIMEZONE
TZID:UTC
BEGIN:STANDARD
TZOFFSETFROM:+0000
TZOFFSETTO:+0000
TZNAME:UTC
DTSTART:20240101T000000
END:STANDARD
END:VTIMEZONE
BEGIN:VEVENT
DTSTART;TZID=UTC:20250601T110000
DTEND;TZID=UTC:20250601T140000
DTSTAMP:20260422T163339
CREATED:20241026T212024Z
LAST-MODIFIED:20241026T212024Z
UID:6207-1748775600-1748786400@bee-friends-frankfurt.de
SUMMARY:IMKER-KURS 2025
DESCRIPTION:Die Kursplanung für 2025 ist abgeschlossen. Einzelheiten hierzu werden auf der Seite “Imker werden” zu finden sein. Anmeldungen nehmen wir ab sofort entgegen. Die Teilnehmerzahl ist sehr begrenzt. Ein Kursplatz gilt erst dann als gesichert\, wenn die Kursgebühren auf unserem Bankkonto eingegangen sind. \nOrt: Lehrbienenstand der Bee Friends in Frankfurt-Kalbach\, \nZum Gickelhahn; Beginn 11 Uhr\, Dauer 2-3 Stunden
URL:https://bee-friends-frankfurt.de/event/imker-kurs-2025-13
LOCATION:Lehrbienenstand\, Zum Gickelhahn\, 60437 Kalbach-Riedberg\, Hessen\, 60437\, Germany
CATEGORIES:BeeFriends Veranstaltung
ATTACH;FMTTYPE=image/png:https://bee-friends-frankfurt.de/wp-content/uploads/2024/10/Neu_Imker_kurs_2025.png
END:VEVENT
BEGIN:VEVENT
DTSTART;VALUE=DATE:20250602
DTEND;VALUE=DATE:20250603
DTSTAMP:20260422T163339
CREATED:20241227T194315Z
LAST-MODIFIED:20241227T194315Z
UID:6319-1748822400-1748908799@bee-friends-frankfurt.de
SUMMARY:Grundschultag in Seligenstadt
DESCRIPTION:Grundschultag in Seligenstadt (für den Landkreis Offenbach)
URL:https://bee-friends-frankfurt.de/event/grundschultag-in-seligenstadt
LOCATION:Schlüchtern
CATEGORIES:Externe Veranstaltung
ATTACH;FMTTYPE=image/webp:https://bee-friends-frankfurt.de/wp-content/uploads/2024/02/imkerverein_offenbach-e1706994636632.webp
END:VEVENT
BEGIN:VEVENT
DTSTART;TZID=UTC:20250609T110000
DTEND;TZID=UTC:20250609T140000
DTSTAMP:20260422T163339
CREATED:20241026T212102Z
LAST-MODIFIED:20241026T212102Z
UID:6209-1749466800-1749477600@bee-friends-frankfurt.de
SUMMARY:IMKER-KURS 2025
DESCRIPTION:Die Kursplanung für 2025 ist abgeschlossen. Einzelheiten hierzu werden auf der Seite “Imker werden” zu finden sein. Anmeldungen nehmen wir ab sofort entgegen. Die Teilnehmerzahl ist sehr begrenzt. Ein Kursplatz gilt erst dann als gesichert\, wenn die Kursgebühren auf unserem Bankkonto eingegangen sind. \nOrt: Lehrbienenstand der Bee Friends in Frankfurt-Kalbach\, \nZum Gickelhahn; Beginn 11 Uhr\, Dauer 2-3 Stunden
URL:https://bee-friends-frankfurt.de/event/imker-kurs-2025-14
LOCATION:Lehrbienenstand\, Zum Gickelhahn\, 60437 Kalbach-Riedberg\, Hessen\, 60437\, Germany
CATEGORIES:BeeFriends Veranstaltung
ATTACH;FMTTYPE=image/png:https://bee-friends-frankfurt.de/wp-content/uploads/2024/10/Neu_Imker_kurs_2025.png
END:VEVENT
BEGIN:VEVENT
DTSTART;TZID=UTC:20250615T110000
DTEND;TZID=UTC:20250615T140000
DTSTAMP:20260422T163339
CREATED:20241026T212145Z
LAST-MODIFIED:20241026T212145Z
UID:6211-1749985200-1749996000@bee-friends-frankfurt.de
SUMMARY:IMKER-KURS 2025
DESCRIPTION:Die Kursplanung für 2025 ist abgeschlossen. Einzelheiten hierzu werden auf der Seite “Imker werden” zu finden sein. Anmeldungen nehmen wir ab sofort entgegen. Die Teilnehmerzahl ist sehr begrenzt. Ein Kursplatz gilt erst dann als gesichert\, wenn die Kursgebühren auf unserem Bankkonto eingegangen sind. \nOrt: Lehrbienenstand der Bee Friends in Frankfurt-Kalbach\, \nZum Gickelhahn; Beginn 11 Uhr\, Dauer 2-3 Stunden
URL:https://bee-friends-frankfurt.de/event/imker-kurs-2025-15
LOCATION:Lehrbienenstand\, Zum Gickelhahn\, 60437 Kalbach-Riedberg\, Hessen\, 60437\, Germany
CATEGORIES:BeeFriends Veranstaltung
ATTACH;FMTTYPE=image/png:https://bee-friends-frankfurt.de/wp-content/uploads/2024/10/Neu_Imker_kurs_2025.png
END:VEVENT
BEGIN:VEVENT
DTSTART;TZID=UTC:20250622T110000
DTEND;TZID=UTC:20250622T140000
DTSTAMP:20260422T163339
CREATED:20241026T212245Z
LAST-MODIFIED:20241026T212245Z
UID:6213-1750590000-1750600800@bee-friends-frankfurt.de
SUMMARY:IMKER-KURS 2025
DESCRIPTION:Die Kursplanung für 2025 ist abgeschlossen. Einzelheiten hierzu werden auf der Seite “Imker werden” zu finden sein. Anmeldungen nehmen wir ab sofort entgegen. Die Teilnehmerzahl ist sehr begrenzt. Ein Kursplatz gilt erst dann als gesichert\, wenn die Kursgebühren auf unserem Bankkonto eingegangen sind. \nOrt: Lehrbienenstand der Bee Friends in Frankfurt-Kalbach\, \nZum Gickelhahn; Beginn 11 Uhr\, Dauer 2-3 Stunden
URL:https://bee-friends-frankfurt.de/event/imker-kurs-2025-16
LOCATION:Lehrbienenstand\, Zum Gickelhahn\, 60437 Kalbach-Riedberg\, Hessen\, 60437\, Germany
CATEGORIES:BeeFriends Veranstaltung
ATTACH;FMTTYPE=image/png:https://bee-friends-frankfurt.de/wp-content/uploads/2024/10/Neu_Imker_kurs_2025.png
END:VEVENT
BEGIN:VEVENT
DTSTART;TZID=UTC:20250624T190000
DTEND;TZID=UTC:20250624T230000
DTSTAMP:20260422T163339
CREATED:20250622T104856Z
LAST-MODIFIED:20250622T104856Z
UID:6420-1750791600-1750806000@bee-friends-frankfurt.de
SUMMARY:Monatsbetrachtungen
DESCRIPTION:Thema: Tipps und Tricks beim Honigverkauf (auch Marketing\,\nPreisgestaltung\, Etiketten etc…) \nMonatsversammlungen bis Ende August finden alle auf dem Vereinsgelände\nund Lehrbienenstand statt. Beginn jeweils 19 Uhr. Speisden und Getränke\nbringt bitte jeder selbst für sich mit. \n  \n 
URL:https://bee-friends-frankfurt.de/event/monatsbetrachtungen-17
LOCATION:Lehrbienenstand\, Zum Gickelhahn\, 60437 Kalbach-Riedberg\, Hessen\, 60437\, Germany
CATEGORIES:BeeFriends Veranstaltung
ATTACH;FMTTYPE=image/png:https://bee-friends-frankfurt.de/wp-content/uploads/2023/12/monatsversammlung.png
END:VEVENT
BEGIN:VEVENT
DTSTART;TZID=UTC:20250629T110000
DTEND;TZID=UTC:20250629T140000
DTSTAMP:20260422T163339
CREATED:20241026T212321Z
LAST-MODIFIED:20241026T212321Z
UID:6215-1751194800-1751205600@bee-friends-frankfurt.de
SUMMARY:IMKER-KURS 2025
DESCRIPTION:Die Kursplanung für 2025 ist abgeschlossen. Einzelheiten hierzu werden auf der Seite “Imker werden” zu finden sein. Anmeldungen nehmen wir ab sofort entgegen. Die Teilnehmerzahl ist sehr begrenzt. Ein Kursplatz gilt erst dann als gesichert\, wenn die Kursgebühren auf unserem Bankkonto eingegangen sind. \nOrt: Lehrbienenstand der Bee Friends in Frankfurt-Kalbach\, \nZum Gickelhahn; Beginn 11 Uhr\, Dauer 2-3 Stunden
URL:https://bee-friends-frankfurt.de/event/imker-kurs-2025-17
LOCATION:Lehrbienenstand\, Zum Gickelhahn\, 60437 Kalbach-Riedberg\, Hessen\, 60437\, Germany
CATEGORIES:BeeFriends Veranstaltung
ATTACH;FMTTYPE=image/png:https://bee-friends-frankfurt.de/wp-content/uploads/2024/10/Neu_Imker_kurs_2025.png
END:VEVENT
BEGIN:VEVENT
DTSTART;TZID=UTC:20250629T110000
DTEND;TZID=UTC:20250629T170000
DTSTAMP:20260422T163339
CREATED:20241227T194611Z
LAST-MODIFIED:20241227T194611Z
UID:6321-1751194800-1751216400@bee-friends-frankfurt.de
SUMMARY:Tag der offenen Tür: Imkerverein Offenbach 2025
DESCRIPTION:Tag der offenen Tür beim Lehrbienenstand Offenbach \nImkerverein Lehrbienenstand Offenbach/ Main und Umgebung e.V. 1875\nEberhard-von-Rochow-Straße 41\n63069 Offenbach/Main\nVor dem Vereinsgelände befinden sich nur wenige Parkplätze.\nAusreichend Parkplätze befinden sich jedoch in der Nähe\, direkt vor dem Eingang der Anne-Frank-Schule.
URL:https://bee-friends-frankfurt.de/event/tag-der-offenen-tuer-imkerverein-offenbach-2025
LOCATION:Schlüchtern
CATEGORIES:Externe Veranstaltung
ATTACH;FMTTYPE=image/webp:https://bee-friends-frankfurt.de/wp-content/uploads/2024/02/imkerverein_offenbach-e1706994636632.webp
END:VEVENT
END:VCALENDAR