BEGIN:VCALENDAR
VERSION:2.0
PRODID:-//Bee Friends Frankfurt - ECPv6.15.20//NONSGML v1.0//EN
CALSCALE:GREGORIAN
METHOD:PUBLISH
X-WR-CALNAME:Bee Friends Frankfurt
X-ORIGINAL-URL:https://bee-friends-frankfurt.de
X-WR-CALDESC:Veranstaltungen für Bee Friends Frankfurt
REFRESH-INTERVAL;VALUE=DURATION:PT1H
X-Robots-Tag:noindex
X-PUBLISHED-TTL:PT1H
BEGIN:VTIMEZONE
TZID:UTC
BEGIN:STANDARD
TZOFFSETFROM:+0000
TZOFFSETTO:+0000
TZNAME:UTC
DTSTART:20240101T000000
END:STANDARD
END:VTIMEZONE
BEGIN:VEVENT
DTSTART;TZID=UTC:20250706T110000
DTEND;TZID=UTC:20250706T140000
DTSTAMP:20260422T150214
CREATED:20241026T212355Z
LAST-MODIFIED:20241026T212355Z
UID:6217-1751799600-1751810400@bee-friends-frankfurt.de
SUMMARY:IMKER-KURS 2025
DESCRIPTION:Die Kursplanung für 2025 ist abgeschlossen. Einzelheiten hierzu werden auf der Seite “Imker werden” zu finden sein. Anmeldungen nehmen wir ab sofort entgegen. Die Teilnehmerzahl ist sehr begrenzt. Ein Kursplatz gilt erst dann als gesichert\, wenn die Kursgebühren auf unserem Bankkonto eingegangen sind. \nOrt: Lehrbienenstand der Bee Friends in Frankfurt-Kalbach\, \nZum Gickelhahn; Beginn 11 Uhr\, Dauer 2-3 Stunden
URL:https://bee-friends-frankfurt.de/event/imker-kurs-2025-18
LOCATION:Lehrbienenstand\, Zum Gickelhahn\, 60437 Kalbach-Riedberg\, Hessen\, 60437\, Germany
CATEGORIES:BeeFriends Veranstaltung
ATTACH;FMTTYPE=image/png:https://bee-friends-frankfurt.de/wp-content/uploads/2024/10/Neu_Imker_kurs_2025.png
END:VEVENT
BEGIN:VEVENT
DTSTART;TZID=UTC:20250713T110000
DTEND;TZID=UTC:20250713T140000
DTSTAMP:20260422T150214
CREATED:20241026T212430Z
LAST-MODIFIED:20241026T212430Z
UID:6219-1752404400-1752415200@bee-friends-frankfurt.de
SUMMARY:IMKER-KURS 2025
DESCRIPTION:Die Kursplanung für 2025 ist abgeschlossen. Einzelheiten hierzu werden auf der Seite “Imker werden” zu finden sein. Anmeldungen nehmen wir ab sofort entgegen. Die Teilnehmerzahl ist sehr begrenzt. Ein Kursplatz gilt erst dann als gesichert\, wenn die Kursgebühren auf unserem Bankkonto eingegangen sind. \nOrt: Lehrbienenstand der Bee Friends in Frankfurt-Kalbach\, \nZum Gickelhahn; Beginn 11 Uhr\, Dauer 2-3 Stunden
URL:https://bee-friends-frankfurt.de/event/imker-kurs-2025-19
LOCATION:Lehrbienenstand\, Zum Gickelhahn\, 60437 Kalbach-Riedberg\, Hessen\, 60437\, Germany
CATEGORIES:BeeFriends Veranstaltung
ATTACH;FMTTYPE=image/png:https://bee-friends-frankfurt.de/wp-content/uploads/2024/10/Neu_Imker_kurs_2025.png
END:VEVENT
BEGIN:VEVENT
DTSTART;TZID=UTC:20250720T110000
DTEND;TZID=UTC:20250720T140000
DTSTAMP:20260422T150214
CREATED:20241026T212456Z
LAST-MODIFIED:20241026T212456Z
UID:6221-1753009200-1753020000@bee-friends-frankfurt.de
SUMMARY:IMKER-KURS 2025
DESCRIPTION:Die Kursplanung für 2025 ist abgeschlossen. Einzelheiten hierzu werden auf der Seite “Imker werden” zu finden sein. Anmeldungen nehmen wir ab sofort entgegen. Die Teilnehmerzahl ist sehr begrenzt. Ein Kursplatz gilt erst dann als gesichert\, wenn die Kursgebühren auf unserem Bankkonto eingegangen sind. \nOrt: Lehrbienenstand der Bee Friends in Frankfurt-Kalbach\, \nZum Gickelhahn; Beginn 11 Uhr\, Dauer 2-3 Stunden
URL:https://bee-friends-frankfurt.de/event/imker-kurs-2025-20
LOCATION:Lehrbienenstand\, Zum Gickelhahn\, 60437 Kalbach-Riedberg\, Hessen\, 60437\, Germany
CATEGORIES:BeeFriends Veranstaltung
ATTACH;FMTTYPE=image/png:https://bee-friends-frankfurt.de/wp-content/uploads/2024/10/Neu_Imker_kurs_2025.png
END:VEVENT
BEGIN:VEVENT
DTSTART;TZID=UTC:20250727T110000
DTEND;TZID=UTC:20250727T140000
DTSTAMP:20260422T150214
CREATED:20241026T212526Z
LAST-MODIFIED:20241026T212526Z
UID:6223-1753614000-1753624800@bee-friends-frankfurt.de
SUMMARY:IMKER-KURS 2025
DESCRIPTION:Die Kursplanung für 2025 ist abgeschlossen. Einzelheiten hierzu werden auf der Seite “Imker werden” zu finden sein. Anmeldungen nehmen wir ab sofort entgegen. Die Teilnehmerzahl ist sehr begrenzt. Ein Kursplatz gilt erst dann als gesichert\, wenn die Kursgebühren auf unserem Bankkonto eingegangen sind. \nOrt: Lehrbienenstand der Bee Friends in Frankfurt-Kalbach\, \nZum Gickelhahn; Beginn 11 Uhr\, Dauer 2-3 Stunden
URL:https://bee-friends-frankfurt.de/event/imker-kurs-2025-21
LOCATION:Lehrbienenstand\, Zum Gickelhahn\, 60437 Kalbach-Riedberg\, Hessen\, 60437\, Germany
CATEGORIES:BeeFriends Veranstaltung
ATTACH;FMTTYPE=image/png:https://bee-friends-frankfurt.de/wp-content/uploads/2024/10/Neu_Imker_kurs_2025.png
END:VEVENT
BEGIN:VEVENT
DTSTART;TZID=UTC:20250729T190000
DTEND;TZID=UTC:20250729T230000
DTSTAMP:20260422T150214
CREATED:20250622T105130Z
LAST-MODIFIED:20250622T105130Z
UID:6422-1753815600-1753830000@bee-friends-frankfurt.de
SUMMARY:Monatsbetrachtungen
DESCRIPTION:Thema: Bienenjahr auf dem Lehrbienenstand (Entwicklung\,\nBeginn der Varroabehandlung nach der Honigernte\, Tipps und Möglichkeiten) \nMonatsversammlungen bis Ende August finden alle auf dem Vereinsgelände\nund Lehrbienenstand statt. Beginn jeweils 19 Uhr. Speisden und Getränke\nbringt bitte jeder selbst für sich mit. \n  \n 
URL:https://bee-friends-frankfurt.de/event/monatsbetrachtungen-18
LOCATION:Lehrbienenstand\, Zum Gickelhahn\, 60437 Kalbach-Riedberg\, Hessen\, 60437\, Germany
CATEGORIES:BeeFriends Veranstaltung
ATTACH;FMTTYPE=image/png:https://bee-friends-frankfurt.de/wp-content/uploads/2023/12/monatsversammlung.png
END:VEVENT
END:VCALENDAR