BEGIN:VCALENDAR
VERSION:2.0
PRODID:-//Bee Friends Frankfurt - ECPv6.15.20//NONSGML v1.0//EN
CALSCALE:GREGORIAN
METHOD:PUBLISH
X-ORIGINAL-URL:https://bee-friends-frankfurt.de
X-WR-CALDESC:Veranstaltungen für Bee Friends Frankfurt
REFRESH-INTERVAL;VALUE=DURATION:PT1H
X-Robots-Tag:noindex
X-PUBLISHED-TTL:PT1H
BEGIN:VTIMEZONE
TZID:UTC
BEGIN:STANDARD
TZOFFSETFROM:+0000
TZOFFSETTO:+0000
TZNAME:UTC
DTSTART:20240101T000000
END:STANDARD
END:VTIMEZONE
BEGIN:VEVENT
DTSTART;TZID=UTC:20250907T110000
DTEND;TZID=UTC:20250907T140000
DTSTAMP:20260422T114316
CREATED:20241026T212944Z
LAST-MODIFIED:20241026T212944Z
UID:6235-1757242800-1757253600@bee-friends-frankfurt.de
SUMMARY:IMKER-KURS 2025
DESCRIPTION:Die Kursplanung für 2025 ist abgeschlossen. Einzelheiten hierzu werden auf der Seite “Imker werden” zu finden sein. Anmeldungen nehmen wir ab sofort entgegen. Die Teilnehmerzahl ist sehr begrenzt. Ein Kursplatz gilt erst dann als gesichert\, wenn die Kursgebühren auf unserem Bankkonto eingegangen sind. \nOrt: Lehrbienenstand der Bee Friends in Frankfurt-Kalbach\, \nZum Gickelhahn; Beginn 11 Uhr\, Dauer 2-3 Stunden
URL:https://bee-friends-frankfurt.de/event/imker-kurs-2025-27
LOCATION:Lehrbienenstand\, Zum Gickelhahn\, 60437 Kalbach-Riedberg\, Hessen\, 60437\, Germany
CATEGORIES:BeeFriends Veranstaltung
ATTACH;FMTTYPE=image/png:https://bee-friends-frankfurt.de/wp-content/uploads/2024/10/Neu_Imker_kurs_2025.png
END:VEVENT
BEGIN:VEVENT
DTSTART;TZID=UTC:20250930T190000
DTEND;TZID=UTC:20250930T230000
DTSTAMP:20260422T114316
CREATED:20250622T105701Z
LAST-MODIFIED:20250622T110042Z
UID:6426-1759258800-1759273200@bee-friends-frankfurt.de
SUMMARY:Monatsbetrachtungen
DESCRIPTION:Thema: Umgang mit Bienenstichen und Bienengiftallergie – ab\njetzt wieder Treffen im Ginnheimer Wirtshaus ! \nMonatsversammlungen bis Ende August finden alle auf dem Vereinsgelände\nund Lehrbienenstand statt. Beginn jeweils 19 Uhr. Speisen und Getränke\nbringt bitte jeder selbst für sich mit. \n  \n 
URL:https://bee-friends-frankfurt.de/event/monatsbetrachtungen-20
LOCATION:Ginnheimer Wirtshaus     \, Am Ginnheimer Wäldchen 8\, Frankfurt am Main\, 60431\, Germany
CATEGORIES:BeeFriends Veranstaltung
ATTACH;FMTTYPE=image/png:https://bee-friends-frankfurt.de/wp-content/uploads/2023/12/monatsversammlung.png
END:VEVENT
END:VCALENDAR