BEGIN:VCALENDAR
VERSION:2.0
PRODID:-//Bee Friends Frankfurt - ECPv6.15.20//NONSGML v1.0//EN
CALSCALE:GREGORIAN
METHOD:PUBLISH
X-WR-CALNAME:Bee Friends Frankfurt
X-ORIGINAL-URL:https://bee-friends-frankfurt.de
X-WR-CALDESC:Veranstaltungen für Bee Friends Frankfurt
REFRESH-INTERVAL;VALUE=DURATION:PT1H
X-Robots-Tag:noindex
X-PUBLISHED-TTL:PT1H
BEGIN:VTIMEZONE
TZID:UTC
BEGIN:STANDARD
TZOFFSETFROM:+0000
TZOFFSETTO:+0000
TZNAME:UTC
DTSTART:20240101T000000
END:STANDARD
END:VTIMEZONE
BEGIN:VEVENT
DTSTART;VALUE=DATE:20251025
DTEND;VALUE=DATE:20251027
DTSTAMP:20260424T094505
CREATED:20241227T195508Z
LAST-MODIFIED:20241227T195508Z
UID:6325-1761350400-1761523199@bee-friends-frankfurt.de
SUMMARY:Vorsitzenden Schulung 2025 in Friedrichsdorf
DESCRIPTION:Vorsitzenden Schulung  2025 in Friedrichsdorf
URL:https://bee-friends-frankfurt.de/event/vorsitzenden-schulung-2025-in-friedrichsdorf
LOCATION:Friedrichsdorf
CATEGORIES:Externe Veranstaltung
ATTACH;FMTTYPE=image/webp:https://bee-friends-frankfurt.de/wp-content/uploads/2024/02/imkerverein_offenbach-e1706994636632.webp
END:VEVENT
BEGIN:VEVENT
DTSTART;TZID=UTC:20251028T190000
DTEND;TZID=UTC:20251028T230000
DTSTAMP:20260424T094505
CREATED:20250622T105955Z
LAST-MODIFIED:20250622T105955Z
UID:6429-1761678000-1761692400@bee-friends-frankfurt.de
SUMMARY:Monatsbetrachtungen
DESCRIPTION:Thema: Ende der Bücherskorpionstudie\, Ergebnisse \nMonatsversammlungen bis Ende August finden alle auf dem Vereinsgelände\nund Lehrbienenstand statt. Beginn jeweils 19 Uhr. Speisen und Getränke\nbringt bitte jeder selbst für sich mit. \n  \n 
URL:https://bee-friends-frankfurt.de/event/monatsbetrachtungen-21
LOCATION:Ginnheimer Wirtshaus     \, Am Ginnheimer Wäldchen 8\, Frankfurt am Main\, 60431\, Germany
CATEGORIES:BeeFriends Veranstaltung
ATTACH;FMTTYPE=image/png:https://bee-friends-frankfurt.de/wp-content/uploads/2023/12/monatsversammlung.png
END:VEVENT
END:VCALENDAR